BEGIN:VCALENDAR
VERSION:2.0
PRODID:-//Plone.org//NONSGML plone.app.event//EN
X-WR-TIMEZONE:Europe/Zurich
BEGIN:VEVENT
SUMMARY:ICT-Scouting 1. Sek (08:20-11:50)
DTSTART;TZID=Europe/Zurich;VALUE=DATE-TIME:20200902T082000
DTEND;TZID=Europe/Zurich;VALUE=DATE-TIME:20200902T115000
DTSTAMP;VALUE=DATE-TIME:20260420T195302Z
UID:040000008200E00074C5B7101A82E00800000000109DE2158845D60100000000000000
 0010000000F97ECB4C06B2E046BF89368A2E2910E5
CREATED;VALUE=DATE-TIME:20200706T062922Z
LAST-MODIFIED;VALUE=DATE-TIME:20200706T064409Z
URL:https://www.sek-pratteln.ch/events/oeffentlich/ict-scouting-1-sek-08-2
 0-11-50-5/2020-09-02
END:VEVENT
BEGIN:VTIMEZONE
TZID:Europe/Zurich
X-LIC-LOCATION:Europe/Zurich
BEGIN:DAYLIGHT
DTSTART;VALUE=DATE-TIME:20200329T030000
TZNAME:CEST
TZOFFSETFROM:+0100
TZOFFSETTO:+0200
END:DAYLIGHT
END:VTIMEZONE
END:VCALENDAR
