BEGIN:VCALENDAR
VERSION:2.0
PRODID:-//Plone.org//NONSGML plone.app.event//EN
X-WR-TIMEZONE:Europe/Zurich
BEGIN:VEVENT
SUMMARY:ICT-Scouting 1. Sek (08:15-11:45)
DTSTART;VALUE=DATE:20230904
DTEND;VALUE=DATE:20230914
DTSTAMP;VALUE=DATE-TIME:20260421T111009Z
UID:040000008200E00074C5B7101A82E00800000000D0D997E431A4D90100000000000000
 00100000004DEB38B7890F12468CD3F12955BA6ED5
CREATED;VALUE=DATE-TIME:20230626T125602Z
LAST-MODIFIED;VALUE=DATE-TIME:20230626T125848Z
URL:https://www.sek-pratteln.ch/events/oeffentlich/ict-scouting-1-sek-08-1
 5-11-45
END:VEVENT
END:VCALENDAR
