BEGIN:VCALENDAR
VERSION:2.0
PRODID:-//Plone.org//NONSGML plone.app.event//EN
X-WR-TIMEZONE:Europe/Zurich
BEGIN:VEVENT
SUMMARY:ICT Scout 1. Sek
DTSTART;VALUE=DATE:20180829
DTEND;VALUE=DATE:20180907
DTSTAMP;VALUE=DATE-TIME:20260421T110611Z
UID:040000008200E00074C5B7101A82E00800000000C0E9F85FCF07D40100000000000000
 00100000006F873978606D7C48AC440E2B8B7DF7F9
CREATED;VALUE=DATE-TIME:20180629T060608Z
DESCRIPTION:\n\n
LAST-MODIFIED;VALUE=DATE-TIME:20200706T064355Z
URL:https://www.sek-pratteln.ch/events/oeffentlich/ict-scout-1-sek
END:VEVENT
END:VCALENDAR
