BEGIN:VCALENDAR
VERSION:2.0
PRODID:-//Plone.org//NONSGML plone.app.event//EN
X-WR-TIMEZONE:Europe/Zurich
BEGIN:VEVENT
SUMMARY:HEROES Workshop
DTSTART;TZID=Europe/Zurich;VALUE=DATE-TIME:20170621T101500
DTEND;TZID=Europe/Zurich;VALUE=DATE-TIME:20170621T130000
DTSTAMP;VALUE=DATE-TIME:20260421T110235Z
UID:c6185aea5d144f95aef0fa5e045c9157@5.35.252.84:8090
CREATED;VALUE=DATE-TIME:20170509T112706Z
DESCRIPTION:Klasse 3Aa
LAST-MODIFIED;VALUE=DATE-TIME:20200706T064349Z
LOCATION:Jugendzentrum\, Pratteln
URL:https://www.sek-pratteln.ch/events/oeffentlich/heroes-workshop
END:VEVENT
BEGIN:VTIMEZONE
TZID:Europe/Zurich
X-LIC-LOCATION:Europe/Zurich
BEGIN:DAYLIGHT
DTSTART;VALUE=DATE-TIME:20170326T030000
TZNAME:CEST
TZOFFSETFROM:+0100
TZOFFSETTO:+0200
END:DAYLIGHT
END:VTIMEZONE
END:VCALENDAR
