BEGIN:VCALENDAR
VERSION:2.0
PRODID:-//Plone.org//NONSGML plone.app.event//EN
X-WR-TIMEZONE:Europe/Zurich
BEGIN:VEVENT
SUMMARY:HEROES Workshop
DTSTART;TZID=Europe/Zurich;VALUE=DATE-TIME:20170622T091000
DTEND;TZID=Europe/Zurich;VALUE=DATE-TIME:20170622T115000
DTSTAMP;VALUE=DATE-TIME:20260421T110258Z
UID:0b673c22b06547b68813a014ce75ae6e@5.35.252.84:8090
CREATED;VALUE=DATE-TIME:20170509T113054Z
DESCRIPTION:Klasse 3Ac
LAST-MODIFIED;VALUE=DATE-TIME:20200706T064349Z
LOCATION:Jugendzentrum\, Pratteln
URL:https://www.sek-pratteln.ch/events/oeffentlich/heroes-workshop-1
END:VEVENT
BEGIN:VTIMEZONE
TZID:Europe/Zurich
X-LIC-LOCATION:Europe/Zurich
BEGIN:DAYLIGHT
DTSTART;VALUE=DATE-TIME:20170326T030000
TZNAME:CEST
TZOFFSETFROM:+0100
TZOFFSETTO:+0200
END:DAYLIGHT
END:VTIMEZONE
END:VCALENDAR
