BEGIN:VCALENDAR
VERSION:2.0
PRODID:-//Plone.org//NONSGML plone.app.event//EN
X-WR-TIMEZONE:Europe/Zurich
BEGIN:VEVENT
SUMMARY:Herbstferien
DTSTART;VALUE=DATE:20240928
DTEND;VALUE=DATE:20241014
DTSTAMP;VALUE=DATE-TIME:20260421T110542Z
UID:040000008200E00074C5B7101A82E00800000000A0E1E87030C2DA0100000000000000
 00100000008182BB1DE982334B9D6925A955D150CB
CREATED;VALUE=DATE-TIME:20240627T145130Z
LAST-MODIFIED;VALUE=DATE-TIME:20240627T145355Z
URL:https://www.sek-pratteln.ch/events/oeffentlich/herbstferien-6
END:VEVENT
END:VCALENDAR
