BEGIN:VCALENDAR
VERSION:2.0
PRODID:-//Plone.org//NONSGML plone.app.event//EN
X-WR-TIMEZONE:Europe/Zurich
BEGIN:VEVENT
SUMMARY:Herbstferien
DTSTART;VALUE=DATE:20221003
DTEND;VALUE=DATE:20221015
DTSTAMP;VALUE=DATE-TIME:20260421T110530Z
UID:040000008200E00074C5B7101A82E00800000000F04BC95BA781D80100000000000000
 001000000040C765A42E35754B98F08180F81145AA
CREATED;VALUE=DATE-TIME:20220627T163354Z
DESCRIPTION: \n
LAST-MODIFIED;VALUE=DATE-TIME:20220627T170018Z
URL:https://www.sek-pratteln.ch/events/oeffentlich/herbstferien-4
END:VEVENT
END:VCALENDAR
