BEGIN:VCALENDAR
VERSION:2.0
PRODID:-//Plone.org//NONSGML plone.app.event//EN
X-WR-TIMEZONE:Europe/Zurich
BEGIN:VEVENT
SUMMARY:Herbstferien
DTSTART;VALUE=DATE:20190930
DTEND;VALUE=DATE:20191012
DTSTAMP;VALUE=DATE-TIME:20260421T110541Z
UID:040000008200E00074C5B7101A82E00800000000703691D27E31D50100000000000000
 00100000005B5786C9B7E9A94E94CCA86CDCDDE742
CREATED;VALUE=DATE-TIME:20190708T101905Z
DESCRIPTION:\n\n
LAST-MODIFIED;VALUE=DATE-TIME:20200706T064400Z
URL:https://www.sek-pratteln.ch/events/oeffentlich/herbstferien-1
END:VEVENT
END:VCALENDAR
