BEGIN:VCALENDAR
VERSION:2.0
PRODID:-//Plone.org//NONSGML plone.app.event//EN
X-WR-TIMEZONE:Europe/Zurich
BEGIN:VEVENT
SUMMARY:Herbstferien 2015
DTSTART;VALUE=DATE:20151005
DTEND;VALUE=DATE:20151019
DTSTAMP;VALUE=DATE-TIME:20260419T231416Z
UID:040000008200E00074C5B7101A82E00800000000F048AA0F2E8FD00100000000000000
 00100000007F5C2794C33FB249864C8032F73D90BD
CREATED;VALUE=DATE-TIME:20150710T073749Z
LAST-MODIFIED;VALUE=DATE-TIME:20200706T064341Z
URL:https://www.sek-pratteln.ch/events/oeffentlich/herbstferien-05-10-18-1
 0.15
END:VEVENT
END:VCALENDAR
