BEGIN:VCALENDAR
VERSION:2.0
PRODID:-//Plone.org//NONSGML plone.app.event//EN
X-WR-TIMEZONE:Europe/Zurich
BEGIN:VEVENT
SUMMARY:Hauptprobe Jahresschlusskonzert (WPF Musik 2. Kl.)
DTSTART;TZID=Europe/Zurich;VALUE=DATE-TIME:20221221T133000
DTEND;TZID=Europe/Zurich;VALUE=DATE-TIME:20221221T170000
DTSTAMP;VALUE=DATE-TIME:20260421T111214Z
UID:040000008200E00074C5B7101A82E00800000000005C39963083D80100000000000000
 001000000067C2285A53383F478531153F45F7C416
CREATED;VALUE=DATE-TIME:20220627T163412Z
DESCRIPTION: \n
LAST-MODIFIED;VALUE=DATE-TIME:20220627T165941Z
URL:https://www.sek-pratteln.ch/events/oeffentlich/hauptprobe-jahresschlus
 skonzert-wpf-musik-2-kl
END:VEVENT
BEGIN:VTIMEZONE
TZID:Europe/Zurich
X-LIC-LOCATION:Europe/Zurich
BEGIN:STANDARD
DTSTART;VALUE=DATE-TIME:20221030T020000
TZNAME:CET
TZOFFSETFROM:+0200
TZOFFSETTO:+0100
END:STANDARD
END:VTIMEZONE
END:VCALENDAR
