BEGIN:VCALENDAR
VERSION:2.0
PRODID:-//Plone.org//NONSGML plone.app.event//EN
X-WR-TIMEZONE:Europe/Zurich
BEGIN:VEVENT
SUMMARY:Halbzeitapéro
DTSTART;TZID=Europe/Zurich;VALUE=DATE-TIME:20240116T173000
DTEND;TZID=Europe/Zurich;VALUE=DATE-TIME:20240116T193000
DTSTAMP;VALUE=DATE-TIME:20260421T110356Z
UID:040000008200E00074C5B7101A82E0080000000020E1AAF844A4D90100000000000000
 0010000000971F0872877CF849B4947E831B96AA57
CREATED;VALUE=DATE-TIME:20230626T125543Z
LAST-MODIFIED;VALUE=DATE-TIME:20230626T125939Z
LOCATION:kleine Aula Q
URL:https://www.sek-pratteln.ch/events/oeffentlich/halbzeitapero
END:VEVENT
BEGIN:VTIMEZONE
TZID:Europe/Zurich
X-LIC-LOCATION:Europe/Zurich
BEGIN:STANDARD
DTSTART;VALUE=DATE-TIME:20231029T020000
TZNAME:CET
TZOFFSETFROM:+0200
TZOFFSETTO:+0100
END:STANDARD
END:VTIMEZONE
END:VCALENDAR
