BEGIN:VCALENDAR
VERSION:2.0
PRODID:-//Plone.org//NONSGML plone.app.event//EN
X-WR-TIMEZONE:Europe/Zurich
BEGIN:VEVENT
SUMMARY:Halbzeitapéro 17:30
DTSTART;TZID=Europe/Zurich;VALUE=DATE-TIME:20230207T173000
DTEND;TZID=Europe/Zurich;VALUE=DATE-TIME:20230207T190000
DTSTAMP;VALUE=DATE-TIME:20260421T110702Z
UID:040000008200E00074C5B7101A82E00800000000500051BD3483D80100000000000000
 0010000000FEE2291545C19A49B90CCE762DB11723
CREATED;VALUE=DATE-TIME:20220627T163420Z
DESCRIPTION: \n
LAST-MODIFIED;VALUE=DATE-TIME:20220627T165927Z
LOCATION:Aula Q
URL:https://www.sek-pratteln.ch/events/oeffentlich/halbzeitapero-17-30
END:VEVENT
BEGIN:VTIMEZONE
TZID:Europe/Zurich
X-LIC-LOCATION:Europe/Zurich
BEGIN:STANDARD
DTSTART;VALUE=DATE-TIME:20221030T020000
TZNAME:CET
TZOFFSETFROM:+0200
TZOFFSETTO:+0100
END:STANDARD
END:VTIMEZONE
END:VCALENDAR
