BEGIN:VCALENDAR
VERSION:2.0
PRODID:-//Plone.org//NONSGML plone.app.event//EN
X-WR-TIMEZONE:Europe/Zurich
BEGIN:VEVENT
SUMMARY:Gesundheitswoche
DTSTART;VALUE=DATE:20241021
DTEND;VALUE=DATE:20241026
DTSTAMP;VALUE=DATE-TIME:20260421T110609Z
UID:040000008200E00074C5B7101A82E00800000000D0C70A2139C2DA0100000000000000
 0010000000909463D23CC15F478CAE33841B1DF1B3
CREATED;VALUE=DATE-TIME:20240627T145114Z
LAST-MODIFIED;VALUE=DATE-TIME:20240627T145436Z
URL:https://www.sek-pratteln.ch/events/oeffentlich/gesundheitswoche-1
END:VEVENT
END:VCALENDAR
