BEGIN:VCALENDAR
VERSION:2.0
PRODID:-//Plone.org//NONSGML plone.app.event//EN
X-WR-TIMEZONE:Europe/Zurich
BEGIN:VEVENT
SUMMARY:Fussballturnier 9. Klassen (über den Mittag)
DTSTART;TZID=Europe/Zurich;VALUE=DATE-TIME:20240426T120000
DTEND;TZID=Europe/Zurich;VALUE=DATE-TIME:20240426T133000
DTSTAMP;VALUE=DATE-TIME:20260421T111141Z
UID:9e302e5ee6fc49b58dc0b9d418711c2a@82.220.37.140:8081
CREATED;VALUE=DATE-TIME:20240321T083143Z
LAST-MODIFIED;VALUE=DATE-TIME:20240321T083153Z
URL:https://www.sek-pratteln.ch/events/oeffentlich/fussballturnier-9-klass
 en-ueber-den-mittag
END:VEVENT
BEGIN:VTIMEZONE
TZID:Europe/Zurich
X-LIC-LOCATION:Europe/Zurich
BEGIN:DAYLIGHT
DTSTART;VALUE=DATE-TIME:20240331T030000
TZNAME:CEST
TZOFFSETFROM:+0100
TZOFFSETTO:+0200
END:DAYLIGHT
END:VTIMEZONE
END:VCALENDAR
