BEGIN:VCALENDAR
VERSION:2.0
PRODID:-//Plone.org//NONSGML plone.app.event//EN
X-WR-TIMEZONE:Europe/Zurich
BEGIN:VEVENT
SUMMARY:Frühlingsferien
DTSTART;VALUE=DATE:20200406
DTEND;VALUE=DATE:20200418
DTSTAMP;VALUE=DATE-TIME:20260421T110542Z
UID:040000008200E00074C5B7101A82E008000000005074C7C78031D50100000000000000
 00100000001F5291B0C324094A82C8BA63D1BED28B
CREATED;VALUE=DATE-TIME:20190708T101901Z
DESCRIPTION:\n\n
LAST-MODIFIED;VALUE=DATE-TIME:20200706T064400Z
URL:https://www.sek-pratteln.ch/events/oeffentlich/fruehlingsferien
END:VEVENT
END:VCALENDAR
