BEGIN:VCALENDAR
VERSION:2.0
PRODID:-//Plone.org//NONSGML plone.app.event//EN
X-WR-TIMEZONE:Europe/Zurich
BEGIN:VEVENT
SUMMARY:Frühlingsferien
DTSTART;VALUE=DATE:20250412
DTEND;VALUE=DATE:20250428
DTSTAMP;VALUE=DATE-TIME:20260421T110548Z
UID:040000008200E00074C5B7101A82E00800000000B027150C31C2DA0100000000000000
 0010000000F8AAD6D4BF6D91419164624D6FF2D68C
CREATED;VALUE=DATE-TIME:20240627T145129Z
LAST-MODIFIED;VALUE=DATE-TIME:20240627T145410Z
URL:https://www.sek-pratteln.ch/events/oeffentlich/fruehlingsferien-5
END:VEVENT
END:VCALENDAR
