BEGIN:VCALENDAR
VERSION:2.0
PRODID:-//Plone.org//NONSGML plone.app.event//EN
X-WR-TIMEZONE:Europe/Zurich
BEGIN:VEVENT
SUMMARY:Frühlingsferien
DTSTART;VALUE=DATE:20220411
DTEND;VALUE=DATE:20220423
DTSTAMP;VALUE=DATE-TIME:20260421T110551Z
UID:040000008200E00074C5B7101A82E00800000000B0EC6DEE0C62D70100000000000000
 0010000000830A3572138B37479BDA54ED3806CB7A
CREATED;VALUE=DATE-TIME:20210701T072556Z
LAST-MODIFIED;VALUE=DATE-TIME:20210701T072910Z
URL:https://www.sek-pratteln.ch/events/oeffentlich/fruehlingsferien-2
END:VEVENT
END:VCALENDAR
