BEGIN:VCALENDAR
VERSION:2.0
PRODID:-//Plone.org//NONSGML plone.app.event//EN
X-WR-TIMEZONE:Europe/Zurich
BEGIN:VEVENT
SUMMARY:Frühlingsferien
DTSTART;VALUE=DATE:20210329
DTEND;VALUE=DATE:20210410
DTSTAMP;VALUE=DATE-TIME:20260421T104840Z
UID:040000008200E00074C5B7101A82E00800000000303AF4C28945D60100000000000000
 001000000033686A7429D0D04B876C3B9676438968
CREATED;VALUE=DATE-TIME:20200706T062916Z
LAST-MODIFIED;VALUE=DATE-TIME:20200706T064408Z
URL:https://www.sek-pratteln.ch/events/oeffentlich/fruehlingsferien-1
END:VEVENT
END:VCALENDAR
