BEGIN:VCALENDAR
VERSION:2.0
PRODID:-//Plone.org//NONSGML plone.app.event//EN
X-WR-TIMEZONE:Europe/Zurich
BEGIN:VEVENT
SUMMARY:Frist Notenabgabe
DTSTART;VALUE=DATE:20230625
DTEND;VALUE=DATE:20230626
DTSTAMP;VALUE=DATE-TIME:20260421T150541Z
UID:040000008200E00074C5B7101A82E0080000000030D5F3273B83D80100000000000000
 001000000013FA108A82D7F84C9D1CA55334D99EAC
CREATED;VALUE=DATE-TIME:20220627T163430Z
DESCRIPTION: \n
LAST-MODIFIED;VALUE=DATE-TIME:20220627T165914Z
URL:https://www.sek-pratteln.ch/events/oeffentlich/frist-notenabgabe
END:VEVENT
END:VCALENDAR
