BEGIN:VCALENDAR
VERSION:2.0
PRODID:-//Plone.org//NONSGML plone.app.event//EN
X-WR-TIMEZONE:Europe/Zurich
BEGIN:VEVENT
SUMMARY:Final 34. Mini-Volleyballturnier
DTSTART;VALUE=DATE:20171208
DTEND;VALUE=DATE:20171209
DTSTAMP;VALUE=DATE-TIME:20260421T104849Z
UID:d793323bcb1647dda97c5f75d8908443@5.35.252.84:8090
CREATED;VALUE=DATE-TIME:20170922T070253Z
DESCRIPTION:Finalrunde in Muttenz
LAST-MODIFIED;VALUE=DATE-TIME:20200706T064352Z
LOCATION:Muttenz
URL:https://www.sek-pratteln.ch/events/oeffentlich/final-34-mini-volleybal
 lturnier
END:VEVENT
END:VCALENDAR
