BEGIN:VCALENDAR
VERSION:2.0
PRODID:-//Plone.org//NONSGML plone.app.event//EN
X-WR-TIMEZONE:Europe/Zurich
BEGIN:VEVENT
SUMMARY:FFET SuS (Fit für den Eignungstest) 15:30-17:00 Bibliothek
DTSTART;TZID=Europe/Zurich;VALUE=DATE-TIME:20200428T153000
DTEND;TZID=Europe/Zurich;VALUE=DATE-TIME:20200428T170000
DTSTAMP;VALUE=DATE-TIME:20260421T111319Z
UID:040000008200E00074C5B7101A82E00800000000D0EF6B7FA631D50100000000000000
 001000000000966F8DCF8BCF43BC378E2D304B5BC4
CREATED;VALUE=DATE-TIME:20190708T101839Z
DESCRIPTION:\n\n
LAST-MODIFIED;VALUE=DATE-TIME:20200706T064358Z
URL:https://www.sek-pratteln.ch/events/oeffentlich/ffet-sus-fit-fuer-den-e
 ignungstest-15-30-17-00-bibliothek
END:VEVENT
BEGIN:VTIMEZONE
TZID:Europe/Zurich
X-LIC-LOCATION:Europe/Zurich
BEGIN:DAYLIGHT
DTSTART;VALUE=DATE-TIME:20200329T030000
TZNAME:CEST
TZOFFSETFROM:+0100
TZOFFSETTO:+0200
END:DAYLIGHT
END:VTIMEZONE
END:VCALENDAR
