BEGIN:VCALENDAR
VERSION:2.0
PRODID:-//Plone.org//NONSGML plone.app.event//EN
X-WR-TIMEZONE:Europe/Zurich
BEGIN:VEVENT
SUMMARY:Jahresausklang
DTSTART;VALUE=DATE:20151223
DTEND;VALUE=DATE:20151224
DTSTAMP;VALUE=DATE-TIME:20260421T111216Z
UID:040000008200E00074C5B7101A82E00800000000D00AEB727291D00100000000000000
 00100000006EC68DF5184F2E4C84FCCA96A0F74FCF
CREATED;VALUE=DATE-TIME:20150710T073753Z
DESCRIPTION:gemäss Programm der einzelnen Klassen
LAST-MODIFIED;VALUE=DATE-TIME:20200706T064342Z
URL:https://www.sek-pratteln.ch/events/oeffentlich/feierlicher-jahresauskl
 ang-froeschmatt
END:VEVENT
END:VCALENDAR
