BEGIN:VCALENDAR
VERSION:2.0
PRODID:-//Plone.org//NONSGML plone.app.event//EN
X-WR-TIMEZONE:Europe/Zurich
BEGIN:VEVENT
SUMMARY:Fasnachtsferien
DTSTART;VALUE=DATE:20170225
DTEND;VALUE=DATE:20170313
DTSTAMP;VALUE=DATE-TIME:20260421T110539Z
UID:040000008200E00074C5B7101A82E0080000000040BE64CAC9CBD10100000000000000
 00100000007BC254C587E8EE4080FFD549AE84B268
CREATED;VALUE=DATE-TIME:20160712T121541Z
LAST-MODIFIED;VALUE=DATE-TIME:20200706T064346Z
URL:https://www.sek-pratteln.ch/events/oeffentlich/fasnachtsferien
END:VEVENT
END:VCALENDAR
