BEGIN:VCALENDAR
VERSION:2.0
PRODID:-//Plone.org//NONSGML plone.app.event//EN
X-WR-TIMEZONE:Europe/Zurich
BEGIN:VEVENT
SUMMARY:Fasnachtsferien
DTSTART;VALUE=DATE:20240210
DTEND;VALUE=DATE:20240226
DTSTAMP;VALUE=DATE-TIME:20260419T151727Z
UID:040000008200E00074C5B7101A82E00800000000C04B66CC2DA4D90100000000000000
 0010000000259A9FC3440CA1459ABE868C2A4EE30B
CREATED;VALUE=DATE-TIME:20230626T125604Z
LAST-MODIFIED;VALUE=DATE-TIME:20230626T125849Z
URL:https://www.sek-pratteln.ch/events/oeffentlich/fasnachtsferien-5
END:VEVENT
END:VCALENDAR
