BEGIN:VCALENDAR
VERSION:2.0
PRODID:-//Plone.org//NONSGML plone.app.event//EN
X-WR-TIMEZONE:Europe/Zurich
BEGIN:VEVENT
SUMMARY:Fasnachtsferien
DTSTART;VALUE=DATE:20230220
DTEND;VALUE=DATE:20230304
DTSTAMP;VALUE=DATE-TIME:20260421T110614Z
UID:040000008200E00074C5B7101A82E00800000000304962B11583D80100000000000000
 0010000000A6385C9CAC80F644AEB0D40577359562
CREATED;VALUE=DATE-TIME:20220627T163356Z
DESCRIPTION: \n
LAST-MODIFIED;VALUE=DATE-TIME:20220627T170019Z
URL:https://www.sek-pratteln.ch/events/oeffentlich/fasnachtsferien-4
END:VEVENT
END:VCALENDAR
