BEGIN:VCALENDAR
VERSION:2.0
PRODID:-//Plone.org//NONSGML plone.app.event//EN
X-WR-TIMEZONE:Europe/Zurich
BEGIN:VEVENT
SUMMARY:Fasnachtsferien
DTSTART;VALUE=DATE:20220228
DTEND;VALUE=DATE:20220312
DTSTAMP;VALUE=DATE-TIME:20260419T152930Z
UID:040000008200E00074C5B7101A82E00800000000E0B020A20C62D70100000000000000
 0010000000B4AA3EE2B3A1C045906EA9E3C1231B7B
CREATED;VALUE=DATE-TIME:20210701T072556Z
LAST-MODIFIED;VALUE=DATE-TIME:20210701T072910Z
URL:https://www.sek-pratteln.ch/events/oeffentlich/fasnachtsferien-3
END:VEVENT
END:VCALENDAR
