BEGIN:VCALENDAR
VERSION:2.0
PRODID:-//Plone.org//NONSGML plone.app.event//EN
X-WR-TIMEZONE:Europe/Zurich
BEGIN:VEVENT
SUMMARY:Fasnachtsferien
DTSTART;VALUE=DATE:20210215
DTEND;VALUE=DATE:20210227
DTSTAMP;VALUE=DATE-TIME:20260421T110549Z
UID:040000008200E00074C5B7101A82E0080000000010B1BE4C8945D60100000000000000
 0010000000CAE973548616B0418BCAAA7483043382
CREATED;VALUE=DATE-TIME:20200706T062917Z
LAST-MODIFIED;VALUE=DATE-TIME:20200706T064408Z
URL:https://www.sek-pratteln.ch/events/oeffentlich/fasnachtsferien-2
END:VEVENT
END:VCALENDAR
