BEGIN:VCALENDAR
VERSION:2.0
PRODID:-//Plone.org//NONSGML plone.app.event//EN
X-WR-TIMEZONE:Europe/Zurich
BEGIN:VEVENT
SUMMARY:Fasnachtsferien
DTSTART;VALUE=DATE:20160208
DTEND;VALUE=DATE:20160209
DTSTAMP;VALUE=DATE-TIME:20260420T004327Z
UID:040000008200E00074C5B7101A82E00800000000407A2DA92B8FD00100000000000000
 0010000000E4A195204E51A443BBE0236A1163351A
CREATED;VALUE=DATE-TIME:20150710T073748Z
LAST-MODIFIED;VALUE=DATE-TIME:20200706T064341Z
URL:https://www.sek-pratteln.ch/events/oeffentlich/fasnachtsferien-08-02-2
 1-02.16
END:VEVENT
END:VCALENDAR
