BEGIN:VCALENDAR
VERSION:2.0
PRODID:-//Plone.org//NONSGML plone.app.event//EN
X-WR-TIMEZONE:Europe/Zurich
BEGIN:VEVENT
SUMMARY:Exkursion Natzweiler-Struthof 3AEP
DTSTART;VALUE=DATE:20260618
DTEND;VALUE=DATE:20260619
DTSTAMP;VALUE=DATE-TIME:20260421T110749Z
UID:bea370812c654b08bfe06da3c5e27ae4@82.220.37.140:8081
CREATED;VALUE=DATE-TIME:20250813T094411Z
LAST-MODIFIED;VALUE=DATE-TIME:20250813T094415Z
URL:https://www.sek-pratteln.ch/events/oeffentlich/exkursion-natzweiler-st
 ruthof-3aep
END:VEVENT
END:VCALENDAR
