BEGIN:VCALENDAR
VERSION:2.0
PRODID:-//Plone.org//NONSGML plone.app.event//EN
X-WR-TIMEZONE:Europe/Zurich
BEGIN:VEVENT
SUMMARY:ESAF
DTSTART;VALUE=DATE:20220827
DTEND;VALUE=DATE:20220829
DTSTAMP;VALUE=DATE-TIME:20260421T110225Z
UID:040000008200E00074C5B7101A82E0080000000070FF9477A581D80100000000000000
 00100000009826377A354EE54AA48F5C9532955A36
CREATED;VALUE=DATE-TIME:20220627T163353Z
DESCRIPTION: \n
LAST-MODIFIED;VALUE=DATE-TIME:20220627T170018Z
URL:https://www.sek-pratteln.ch/events/oeffentlich/esaf
END:VEVENT
END:VCALENDAR
