BEGIN:VCALENDAR
VERSION:2.0
PRODID:-//Plone.org//NONSGML plone.app.event//EN
X-WR-TIMEZONE:Europe/Zurich
BEGIN:VEVENT
SUMMARY:ESAF-Umzug (SuS/LP) nachmittags\; ganztägig kein U nach Stundenpl
 an\, sondern nach besonderer Information
DTSTART;TZID=Europe/Zurich;VALUE=DATE-TIME:20220826T080000
DTEND;TZID=Europe/Zurich;VALUE=DATE-TIME:20220826T170000
DTSTAMP;VALUE=DATE-TIME:20260421T111316Z
UID:040000008200E00074C5B7101A82E00800000000A085A4A41F83D80100000000000000
 00100000006CC114D1CAF60843B6E02752474940D6
CREATED;VALUE=DATE-TIME:20220627T163403Z
LAST-MODIFIED;VALUE=DATE-TIME:20220822T122104Z
URL:https://www.sek-pratteln.ch/events/oeffentlich/esaf-umzug-sus-lp-nachm
 ittags-ganztaegig-kein-u-nach-stundenplan-sondern-nach-besonderer-informat
 ion
END:VEVENT
BEGIN:VTIMEZONE
TZID:Europe/Zurich
X-LIC-LOCATION:Europe/Zurich
BEGIN:DAYLIGHT
DTSTART;VALUE=DATE-TIME:20220327T030000
TZNAME:CEST
TZOFFSETFROM:+0100
TZOFFSETTO:+0200
END:DAYLIGHT
END:VTIMEZONE
END:VCALENDAR
