BEGIN:VCALENDAR
VERSION:2.0
PRODID:-//Plone.org//NONSGML plone.app.event//EN
X-WR-TIMEZONE:Europe/Zurich
BEGIN:VEVENT
SUMMARY:Ergebnisrückmeldung Check S3 (KW 24)
DTSTART;VALUE=DATE:20260608
DTEND;VALUE=DATE:20260609
DTSTAMP;VALUE=DATE-TIME:20260421T111157Z
UID:040000008200E00074C5B7101A82E00800000000F0E02D9421D2DB0100000000000000
 0010000000C242FD052310CF4986ACD5D63DB8DD63
CREATED;VALUE=DATE-TIME:20250611T084900Z
LAST-MODIFIED;VALUE=DATE-TIME:20250611T085746Z
URL:https://www.sek-pratteln.ch/events/oeffentlich/ergebnisrueckmeldung-ch
 eck-s3-kw-24
END:VEVENT
END:VCALENDAR
