BEGIN:VCALENDAR
VERSION:2.0
PRODID:-//Plone.org//NONSGML plone.app.event//EN
X-WR-TIMEZONE:Europe/Zurich
BEGIN:VEVENT
SUMMARY:Entwicklungstag/Weiterbildungstag (schulfrei)
DTSTART;VALUE=DATE:20161028
DTEND;VALUE=DATE:20161029
DTSTAMP;VALUE=DATE-TIME:20260421T111158Z
UID:040000008200E00074C5B7101A82E00800000000F0E9513E3FD8D10100000000000000
 0010000000056746EA8C7F11468D7A658DAB3CBB95
CREATED;VALUE=DATE-TIME:20160712T121553Z
LAST-MODIFIED;VALUE=DATE-TIME:20200706T064347Z
LOCATION:grosse Aula\, B-Trakt und kleine Aula\, Q-Trakt
URL:https://www.sek-pratteln.ch/events/oeffentlich/entwicklungstag-weiterb
 ildungstag-schulfrei
END:VEVENT
END:VCALENDAR
