BEGIN:VCALENDAR
VERSION:2.0
PRODID:-//Plone.org//NONSGML plone.app.event//EN
X-WR-TIMEZONE:Europe/Zurich
BEGIN:VEVENT
SUMMARY:Entwicklungs-/Weiterbildungstag (schulfrei)
DTSTART;TZID=Europe/Zurich;VALUE=DATE-TIME:20170215T080000
DTEND;TZID=Europe/Zurich;VALUE=DATE-TIME:20170215T170000
DTSTAMP;VALUE=DATE-TIME:20260421T111139Z
UID:040000008200E00074C5B7101A82E00800000000A026256F3FD8D10100000000000000
 00100000009456A9742C5F4942A3006DFEF3619AA2
CREATED;VALUE=DATE-TIME:20160712T121554Z
LAST-MODIFIED;VALUE=DATE-TIME:20200706T064347Z
LOCATION:grosse Aula\, B-Trakt und kleine Aula\, Q-Trakt
URL:https://www.sek-pratteln.ch/events/oeffentlich/entwicklungs-weiterbild
 ungstag-schulfrei
END:VEVENT
BEGIN:VTIMEZONE
TZID:Europe/Zurich
X-LIC-LOCATION:Europe/Zurich
BEGIN:STANDARD
DTSTART;VALUE=DATE-TIME:20161030T020000
TZNAME:CET
TZOFFSETFROM:+0200
TZOFFSETTO:+0100
END:STANDARD
END:VTIMEZONE
END:VCALENDAR
