BEGIN:VCALENDAR
VERSION:2.0
PRODID:-//Plone.org//NONSGML plone.app.event//EN
X-WR-TIMEZONE:Europe/Zurich
BEGIN:VEVENT
SUMMARY:Entdeckungen in der Infothek BIZ\; Klasse 2Ac 1830
DTSTART;TZID=Europe/Zurich;VALUE=DATE-TIME:20181211T183000
DTEND;TZID=Europe/Zurich;VALUE=DATE-TIME:20181211T210000
DTSTAMP;VALUE=DATE-TIME:20260421T111309Z
UID:040000008200E00074C5B7101A82E008000000006081E926D607D40100000000000000
 001000000097A8F8E8EF446545BDF0CC9A35A59F4B
CREATED;VALUE=DATE-TIME:20180629T060552Z
DESCRIPTION:\n\n
LAST-MODIFIED;VALUE=DATE-TIME:20200706T064354Z
URL:https://www.sek-pratteln.ch/events/oeffentlich/entdeckungen-in-der-inf
 othek-biz-klasse-2ac-1830
END:VEVENT
BEGIN:VTIMEZONE
TZID:Europe/Zurich
X-LIC-LOCATION:Europe/Zurich
BEGIN:STANDARD
DTSTART;VALUE=DATE-TIME:20181028T020000
TZNAME:CET
TZOFFSETFROM:+0200
TZOFFSETTO:+0100
END:STANDARD
END:VTIMEZONE
END:VCALENDAR
