BEGIN:VCALENDAR
VERSION:2.0
PRODID:-//Plone.org//NONSGML plone.app.event//EN
X-WR-TIMEZONE:Europe/Zurich
BEGIN:VEVENT
SUMMARY:Entdeckungen in der Infothek (BIZ) 2Aa (20:00-21:30)
DTSTART;TZID=Europe/Zurich;VALUE=DATE-TIME:20200121T200000
DTEND;TZID=Europe/Zurich;VALUE=DATE-TIME:20200121T213000
DTSTAMP;VALUE=DATE-TIME:20260421T105709Z
UID:040000008200E00074C5B7101A82E00800000000B048B88CA531D50100000000000000
 0010000000570B125193FF6547AD61F95A3887F36B
CREATED;VALUE=DATE-TIME:20190708T101843Z
DESCRIPTION:\n\n
LAST-MODIFIED;VALUE=DATE-TIME:20200706T064359Z
URL:https://www.sek-pratteln.ch/events/oeffentlich/entdeckungen-in-der-inf
 othek-biz-2aa-20-00-21-30
END:VEVENT
BEGIN:VTIMEZONE
TZID:Europe/Zurich
X-LIC-LOCATION:Europe/Zurich
BEGIN:STANDARD
DTSTART;VALUE=DATE-TIME:20191027T020000
TZNAME:CET
TZOFFSETFROM:+0200
TZOFFSETTO:+0100
END:STANDARD
END:VTIMEZONE
END:VCALENDAR
