BEGIN:VCALENDAR
VERSION:2.0
PRODID:-//Plone.org//NONSGML plone.app.event//EN
X-WR-TIMEZONE:Europe/Zurich
BEGIN:VEVENT
SUMMARY:Elternabende BiZ 2Pa\, 2Pb - abgesagt
DTSTART;TZID=Europe/Zurich;VALUE=DATE-TIME:20210211T183000
DTEND;TZID=Europe/Zurich;VALUE=DATE-TIME:20210211T213000
DTSTAMP;VALUE=DATE-TIME:20260421T105711Z
UID:dda69880e8c6425ba84b5aeb7967dda1@5.35.252.84:8090
CREATED;VALUE=DATE-TIME:20210112T075530Z
LAST-MODIFIED;VALUE=DATE-TIME:20210112T075537Z
LOCATION:BIZ Liestal
URL:https://www.sek-pratteln.ch/events/oeffentlich/elternabende-biz-2pa-2p
 b-abgesagt
END:VEVENT
BEGIN:VTIMEZONE
TZID:Europe/Zurich
X-LIC-LOCATION:Europe/Zurich
BEGIN:STANDARD
DTSTART;VALUE=DATE-TIME:20201025T020000
TZNAME:CET
TZOFFSETFROM:+0200
TZOFFSETTO:+0100
END:STANDARD
END:VTIMEZONE
END:VCALENDAR
