BEGIN:VCALENDAR
VERSION:2.0
PRODID:-//Plone.org//NONSGML plone.app.event//EN
X-WR-TIMEZONE:Europe/Zurich
BEGIN:VEVENT
SUMMARY:Elternabende BiZ: 2Pa (18:00h)\, 2Pb (20:00h)
DTSTART;TZID=Europe/Zurich;VALUE=DATE-TIME:20220110T180000
DTEND;TZID=Europe/Zurich;VALUE=DATE-TIME:20220110T220000
DTSTAMP;VALUE=DATE-TIME:20260421T111309Z
UID:040000008200E00074C5B7101A82E00800000000D09132D59F63D70100000000000000
 001000000040D3B5DCC5FB98439B80CD0A038493AF
CREATED;VALUE=DATE-TIME:20210701T072618Z
LAST-MODIFIED;VALUE=DATE-TIME:20210701T072815Z
URL:https://www.sek-pratteln.ch/events/oeffentlich/elternabende-biz-2pa-18
 -00h-2pb-20-00h
END:VEVENT
BEGIN:VTIMEZONE
TZID:Europe/Zurich
X-LIC-LOCATION:Europe/Zurich
BEGIN:STANDARD
DTSTART;VALUE=DATE-TIME:20211031T020000
TZNAME:CET
TZOFFSETFROM:+0200
TZOFFSETTO:+0100
END:STANDARD
END:VTIMEZONE
END:VCALENDAR
