BEGIN:VCALENDAR
VERSION:2.0
PRODID:-//Plone.org//NONSGML plone.app.event//EN
X-WR-TIMEZONE:Europe/Zurich
BEGIN:VEVENT
SUMMARY:Elternabende BiZ: 2Ec (18:00h)\, 2Eb (20:00h)
DTSTART;TZID=Europe/Zurich;VALUE=DATE-TIME:20211123T180000
DTEND;TZID=Europe/Zurich;VALUE=DATE-TIME:20211123T220000
DTSTAMP;VALUE=DATE-TIME:20260421T111218Z
UID:040000008200E00074C5B7101A82E00800000000F08493459D63D70100000000000000
 00100000004D9F0F58BD9AAB40A616A3C48336778D
CREATED;VALUE=DATE-TIME:20210701T072615Z
LAST-MODIFIED;VALUE=DATE-TIME:20210701T072815Z
URL:https://www.sek-pratteln.ch/events/oeffentlich/elternabende-biz-2ec-18
 -00h-2eb-20-00h
END:VEVENT
BEGIN:VTIMEZONE
TZID:Europe/Zurich
X-LIC-LOCATION:Europe/Zurich
BEGIN:STANDARD
DTSTART;VALUE=DATE-TIME:20211031T020000
TZNAME:CET
TZOFFSETFROM:+0200
TZOFFSETTO:+0100
END:STANDARD
END:VTIMEZONE
END:VCALENDAR
