BEGIN:VCALENDAR
VERSION:2.0
PRODID:-//Plone.org//NONSGML plone.app.event//EN
X-WR-TIMEZONE:Europe/Zurich
BEGIN:VEVENT
SUMMARY:Elternabende BiZ 2Aa\, 2Eb - abgesagt
DTSTART;VALUE=DATE:20210114
DTEND;VALUE=DATE:20210115
DTSTAMP;VALUE=DATE-TIME:20260420T233153Z
UID:040000008200E00074C5B7101A82E0080000000040C29E5A194AD60100000000000000
 00100000003F27AF83499672408136BED0D048D2A2
CREATED;VALUE=DATE-TIME:20200706T062844Z
DESCRIPTION:None
LAST-MODIFIED;VALUE=DATE-TIME:20210105T102639Z
URL:https://www.sek-pratteln.ch/events/oeffentlich/elternabende-biz-2aa-2e
 b-2pa
END:VEVENT
END:VCALENDAR
