BEGIN:VCALENDAR
VERSION:2.0
PRODID:-//Plone.org//NONSGML plone.app.event//EN
X-WR-TIMEZONE:Europe/Zurich
BEGIN:VEVENT
SUMMARY:Elternabend Übertritt
DTSTART;TZID=Europe/Zurich;VALUE=DATE-TIME:20171023T193000
DTEND;TZID=Europe/Zurich;VALUE=DATE-TIME:20171023T210000
DTSTAMP;VALUE=DATE-TIME:20260421T110538Z
UID:040000008200E00074C5B7101A82E00800000000909AB8DCEBE8D20100000000000000
 00100000005D1E9D22FD2D7D4096F7D1A0C84DE051
CREATED;VALUE=DATE-TIME:20170623T094909Z
LAST-MODIFIED;VALUE=DATE-TIME:20200706T064350Z
LOCATION:grosse Aula\, B-Trakt
URL:https://www.sek-pratteln.ch/events/oeffentlich/elternabend-uebertritt-
 1
END:VEVENT
BEGIN:VTIMEZONE
TZID:Europe/Zurich
X-LIC-LOCATION:Europe/Zurich
BEGIN:DAYLIGHT
DTSTART;VALUE=DATE-TIME:20170326T030000
TZNAME:CEST
TZOFFSETFROM:+0100
TZOFFSETTO:+0200
END:DAYLIGHT
END:VTIMEZONE
END:VCALENDAR
