BEGIN:VCALENDAR
VERSION:2.0
PRODID:-//Plone.org//NONSGML plone.app.event//EN
X-WR-TIMEZONE:Europe/Zurich
BEGIN:VEVENT
SUMMARY:Elternabend BiZ 2Pb 18:00 / Elternabend BiZ 2Pa 20:00
DTSTART;TZID=Europe/Zurich;VALUE=DATE-TIME:20221128T180000
DTEND;TZID=Europe/Zurich;VALUE=DATE-TIME:20221128T220000
DTSTAMP;VALUE=DATE-TIME:20260421T111308Z
UID:040000008200E00074C5B7101A82E0080000000020ADEBE22E83D80100000000000000
 0010000000918F1C53EB169D41ACB89F1145346C99
CREATED;VALUE=DATE-TIME:20220627T163411Z
DESCRIPTION: \n
LAST-MODIFIED;VALUE=DATE-TIME:20220627T165940Z
URL:https://www.sek-pratteln.ch/events/oeffentlich/elternabend-biz-2pb-18-
 00-elternabend-biz-2pa-20-00
END:VEVENT
BEGIN:VTIMEZONE
TZID:Europe/Zurich
X-LIC-LOCATION:Europe/Zurich
BEGIN:STANDARD
DTSTART;VALUE=DATE-TIME:20221030T020000
TZNAME:CET
TZOFFSETFROM:+0200
TZOFFSETTO:+0100
END:STANDARD
END:VTIMEZONE
END:VCALENDAR
