BEGIN:VCALENDAR
VERSION:2.0
PRODID:-//Plone.org//NONSGML plone.app.event//EN
X-WR-TIMEZONE:Europe/Zurich
BEGIN:VEVENT
SUMMARY:Elternabend BiZ 2Ec 18:00 / Elternabend BiZ 2Ea 20:00
DTSTART;TZID=Europe/Zurich;VALUE=DATE-TIME:20221208T180000
DTEND;TZID=Europe/Zurich;VALUE=DATE-TIME:20221208T220000
DTSTAMP;VALUE=DATE-TIME:20260419T182544Z
UID:040000008200E00074C5B7101A82E0080000000040BCD0403083D80100000000000000
 00100000003A1F2DE14AC0A04FB32AD999E507DD37
CREATED;VALUE=DATE-TIME:20220627T163412Z
DESCRIPTION: \n
LAST-MODIFIED;VALUE=DATE-TIME:20220627T165940Z
URL:https://www.sek-pratteln.ch/events/oeffentlich/elternabend-biz-2ec-18-
 00-elternabend-biz-2ea-20-00
END:VEVENT
BEGIN:VTIMEZONE
TZID:Europe/Zurich
X-LIC-LOCATION:Europe/Zurich
BEGIN:STANDARD
DTSTART;VALUE=DATE-TIME:20221030T020000
TZNAME:CET
TZOFFSETFROM:+0200
TZOFFSETTO:+0100
END:STANDARD
END:VTIMEZONE
END:VCALENDAR
