BEGIN:VCALENDAR
VERSION:2.0
PRODID:-//Plone.org//NONSGML plone.app.event//EN
X-WR-TIMEZONE:Europe/Zurich
BEGIN:VEVENT
SUMMARY:Elternabend BiZ 2Aa 18:00 / Elternabend BiZ 2Ab 20:00
DTSTART;TZID=Europe/Zurich;VALUE=DATE-TIME:20230117T180000
DTEND;TZID=Europe/Zurich;VALUE=DATE-TIME:20230117T220000
DTSTAMP;VALUE=DATE-TIME:20260421T080957Z
UID:040000008200E00074C5B7101A82E0080000000070F18EA23283D80100000000000000
 00100000002EF41C3869D00F4B817A93066163DD7E
CREATED;VALUE=DATE-TIME:20220627T163415Z
DESCRIPTION: \n
LAST-MODIFIED;VALUE=DATE-TIME:20220627T165927Z
URL:https://www.sek-pratteln.ch/events/oeffentlich/elternabend-biz-2aa-18-
 00-elternabend-biz-2ab-20-00
END:VEVENT
BEGIN:VTIMEZONE
TZID:Europe/Zurich
X-LIC-LOCATION:Europe/Zurich
BEGIN:STANDARD
DTSTART;VALUE=DATE-TIME:20221030T020000
TZNAME:CET
TZOFFSETFROM:+0200
TZOFFSETTO:+0100
END:STANDARD
END:VTIMEZONE
END:VCALENDAR
