BEGIN:VCALENDAR
VERSION:2.0
PRODID:-//Plone.org//NONSGML plone.app.event//EN
X-WR-TIMEZONE:Europe/Zurich
BEGIN:VEVENT
SUMMARY:Elternabend 1A
DTSTART;TZID=Europe/Zurich;VALUE=DATE-TIME:20170829T190000
DTSTAMP;VALUE=DATE-TIME:20260421T110745Z
UID:040000008200E00074C5B7101A82E00800000000008AF2E7F1E8D20100000000000000
 0010000000F7EAA41A4EEEB94BA07CF4C70F8E4354
CREATED;VALUE=DATE-TIME:20170623T094924Z
DESCRIPTION:None
LAST-MODIFIED;VALUE=DATE-TIME:20200706T064351Z
LOCATION:kleine Aula\, Q-Trakt
URL:https://www.sek-pratteln.ch/events/oeffentlich/elternabend-7-klassen-n
 iveau-a
END:VEVENT
BEGIN:VTIMEZONE
TZID:Europe/Zurich
X-LIC-LOCATION:Europe/Zurich
BEGIN:DAYLIGHT
DTSTART;VALUE=DATE-TIME:20170326T030000
TZNAME:CEST
TZOFFSETFROM:+0100
TZOFFSETTO:+0200
END:DAYLIGHT
END:VTIMEZONE
END:VCALENDAR
