BEGIN:VCALENDAR
VERSION:2.0
PRODID:-//Plone.org//NONSGML plone.app.event//EN
X-WR-TIMEZONE:Europe/Zurich
BEGIN:VEVENT
SUMMARY:Elternabend 6. Kl. (KLP+Eltern PS/SEK) 19:00h
DTSTART;TZID=Europe/Zurich;VALUE=DATE-TIME:20220919T190000
DTEND;TZID=Europe/Zurich;VALUE=DATE-TIME:20220919T210000
DTSTAMP;VALUE=DATE-TIME:20260421T111112Z
UID:040000008200E00074C5B7101A82E00800000000E0BF0CA32583D80100000000000000
 001000000012BDE0A54CAFFA41B029C1F1F9A45712
CREATED;VALUE=DATE-TIME:20220627T163406Z
DESCRIPTION: \n
LAST-MODIFIED;VALUE=DATE-TIME:20220627T170000Z
LOCATION:Aula B
URL:https://www.sek-pratteln.ch/events/oeffentlich/elternabend-6-kl-klp-el
 tern-ps-sek-19-00h
END:VEVENT
BEGIN:VTIMEZONE
TZID:Europe/Zurich
X-LIC-LOCATION:Europe/Zurich
BEGIN:DAYLIGHT
DTSTART;VALUE=DATE-TIME:20220327T030000
TZNAME:CEST
TZOFFSETFROM:+0100
TZOFFSETTO:+0200
END:DAYLIGHT
END:VTIMEZONE
END:VCALENDAR
