BEGIN:VCALENDAR
VERSION:2.0
PRODID:-//Plone.org//NONSGML plone.app.event//EN
X-WR-TIMEZONE:Europe/Zurich
BEGIN:VEVENT
SUMMARY:Elternabend 6. Kl. (KLP+Eltern\, 19:00h Aula-B)
DTSTART;TZID=Europe/Zurich;VALUE=DATE-TIME:20210830T190000
DTEND;TZID=Europe/Zurich;VALUE=DATE-TIME:20210830T210000
DTSTAMP;VALUE=DATE-TIME:20260421T111114Z
UID:040000008200E00074C5B7101A82E008000000007065E88F9863D70100000000000000
 00100000000614A21C3FDB3249B0A4A27B25C8A86E
CREATED;VALUE=DATE-TIME:20210701T072607Z
LAST-MODIFIED;VALUE=DATE-TIME:20210701T072841Z
URL:https://www.sek-pratteln.ch/events/oeffentlich/elternabend-6-kl-klp-el
 tern-19-00h-aula-b
END:VEVENT
BEGIN:VTIMEZONE
TZID:Europe/Zurich
X-LIC-LOCATION:Europe/Zurich
BEGIN:DAYLIGHT
DTSTART;VALUE=DATE-TIME:20210328T030000
TZNAME:CEST
TZOFFSETFROM:+0100
TZOFFSETTO:+0200
END:DAYLIGHT
END:VTIMEZONE
END:VCALENDAR
