BEGIN:VCALENDAR
VERSION:2.0
PRODID:-//Plone.org//NONSGML plone.app.event//EN
X-WR-TIMEZONE:Europe/Zurich
BEGIN:VEVENT
SUMMARY:Elternabend 6. Kl. (KLP+Eltern\; 19:00)
DTSTART;TZID=Europe/Zurich;VALUE=DATE-TIME:20200831T190000
DTEND;TZID=Europe/Zurich;VALUE=DATE-TIME:20200831T213000
DTSTAMP;VALUE=DATE-TIME:20260421T110745Z
UID:040000008200E00074C5B7101A82E00800000000305FFCCA044AD60100000000000000
 0010000000803C07340B8E824BA9787B79604F857C
CREATED;VALUE=DATE-TIME:20200706T062857Z
LAST-MODIFIED;VALUE=DATE-TIME:20200706T064406Z
LOCATION:grosse Aula-B
URL:https://www.sek-pratteln.ch/events/oeffentlich/elternabend-6-kl-klp-el
 tern-19-00
END:VEVENT
BEGIN:VTIMEZONE
TZID:Europe/Zurich
X-LIC-LOCATION:Europe/Zurich
BEGIN:DAYLIGHT
DTSTART;VALUE=DATE-TIME:20200329T030000
TZNAME:CEST
TZOFFSETFROM:+0100
TZOFFSETTO:+0200
END:DAYLIGHT
END:VTIMEZONE
END:VCALENDAR
