BEGIN:VCALENDAR
VERSION:2.0
PRODID:-//Plone.org//NONSGML plone.app.event//EN
X-WR-TIMEZONE:Europe/Zurich
BEGIN:VEVENT
SUMMARY:Elternabend 3Ea
DTSTART;TZID=Europe/Zurich;VALUE=DATE-TIME:20160126T180000
DTSTAMP;VALUE=DATE-TIME:20260421T110249Z
UID:473be4dd94544e179626a636d314c6d0@5.35.252.84:8090
CREATED;VALUE=DATE-TIME:20150820T104218Z
LAST-MODIFIED;VALUE=DATE-TIME:20200706T064344Z
LOCATION:BiZ Liestal
URL:https://www.sek-pratteln.ch/events/oeffentlich/elternabend-3ea
END:VEVENT
BEGIN:VTIMEZONE
TZID:Europe/Zurich
X-LIC-LOCATION:Europe/Zurich
BEGIN:STANDARD
DTSTART;VALUE=DATE-TIME:20151025T020000
TZNAME:CET
TZOFFSETFROM:+0200
TZOFFSETTO:+0100
END:STANDARD
END:VTIMEZONE
END:VCALENDAR
