BEGIN:VCALENDAR
VERSION:2.0
PRODID:-//Plone.org//NONSGML plone.app.event//EN
X-WR-TIMEZONE:Europe/Zurich
BEGIN:VEVENT
SUMMARY:Elternabend 3E (19:00)
DTSTART;TZID=Europe/Zurich;VALUE=DATE-TIME:20200909T190000
DTEND;TZID=Europe/Zurich;VALUE=DATE-TIME:20200909T213000
DTSTAMP;VALUE=DATE-TIME:20260421T110530Z
UID:040000008200E00074C5B7101A82E00800000000E0016A95064AD60100000000000000
 0010000000D31ED41CD406AB4A93875C92C804D733
CREATED;VALUE=DATE-TIME:20200706T062856Z
DESCRIPTION:None
LAST-MODIFIED;VALUE=DATE-TIME:20200908T082544Z
URL:https://www.sek-pratteln.ch/events/oeffentlich/elternabend-3e-19-00
END:VEVENT
BEGIN:VTIMEZONE
TZID:Europe/Zurich
X-LIC-LOCATION:Europe/Zurich
BEGIN:DAYLIGHT
DTSTART;VALUE=DATE-TIME:20200329T030000
TZNAME:CEST
TZOFFSETFROM:+0100
TZOFFSETTO:+0200
END:DAYLIGHT
END:VTIMEZONE
END:VCALENDAR
